BEGIN:VCALENDAR
VERSION:2.0
PRODID:-//PsalmFM - ECPv6.15.20//NONSGML v1.0//EN
CALSCALE:GREGORIAN
METHOD:PUBLISH
X-ORIGINAL-URL:https://psalmfm.org
X-WR-CALDESC:Events for PsalmFM
REFRESH-INTERVAL;VALUE=DURATION:PT1H
X-Robots-Tag:noindex
X-PUBLISHED-TTL:PT1H
BEGIN:VTIMEZONE
TZID:UTC
BEGIN:STANDARD
TZOFFSETFROM:+0000
TZOFFSETTO:+0000
TZNAME:UTC
DTSTART:20240101T000000
END:STANDARD
END:VTIMEZONE
BEGIN:VEVENT
DTSTART;TZID=UTC:20250613T080000
DTEND;TZID=UTC:20250613T120000
DTSTAMP:20260424T155158
CREATED:20250604T160653Z
LAST-MODIFIED:20250604T160653Z
UID:11139-1749801600-1749816000@psalmfm.org
SUMMARY:Bloodmobile- Bemidji
DESCRIPTION:Friday\, June 13\, 2025 \n08:00 am – 12:00 pm \nNorth Country Regional Hospital \n1300 Anne Street NW\nBemidji\, MN 56601 \nPrimary Blood Drive Coordinator: \nJillian Johnson\nEmail: Jillian.Johnson@SanfordHealth.org\nPhone: 218-333-6090
URL:https://psalmfm.org/event/bloodmobile-bemidji-12/
END:VEVENT
END:VCALENDAR