BEGIN:VCALENDAR
VERSION:2.0
PRODID:-//PsalmFM - ECPv6.15.20//NONSGML v1.0//EN
CALSCALE:GREGORIAN
METHOD:PUBLISH
X-WR-CALNAME:PsalmFM
X-ORIGINAL-URL:https://psalmfm.org
X-WR-CALDESC:Events for PsalmFM
REFRESH-INTERVAL;VALUE=DURATION:PT1H
X-Robots-Tag:noindex
X-PUBLISHED-TTL:PT1H
BEGIN:VTIMEZONE
TZID:UTC
BEGIN:STANDARD
TZOFFSETFROM:+0000
TZOFFSETTO:+0000
TZNAME:UTC
DTSTART:20250101T000000
END:STANDARD
END:VTIMEZONE
BEGIN:VEVENT
DTSTART;TZID=UTC:20260423T150000
DTEND;TZID=UTC:20260425T220000
DTSTAMP:20260423T201454
CREATED:20250523T145312Z
LAST-MODIFIED:20260420T193624Z
UID:11119-1776956400-1777154400@psalmfm.org
SUMMARY:Crossroads Youth Center (Itasca Youth for Christ)
DESCRIPTION:Crossroads Youth Center has drop-in hours every Thursday from 3-7 and Fridays 5-10. Crossroads is located at 426 NW 4th Street in Grand Rapids. For more information about this or one of the many other activities they offer call 218-326-9079 or go to their website at itascayfc.org.  \nCrossroads youth center is a drop-in center for 13-18 year olds that offers a safe\, positive environment for all area youth. The center features: FREE billiards\, ping-pong\, Xbox station\, WiiU station\, foosball\, shuffleboard\, mini-indoor basketball shoot-out\, board games\, music\, coffee and snack shop. \nYouth spend time creating friendships and talking with staff about life and the serious issues they face. \nStaff and ministry leaders are readily available for youth who want someone to support them\, encourage them\, give hope and guidance.
URL:https://psalmfm.org/event/crossroads-youth-center/
END:VEVENT
END:VCALENDAR