BEGIN:VCALENDAR
VERSION:2.0
PRODID:-//PsalmFM - ECPv6.15.20//NONSGML v1.0//EN
CALSCALE:GREGORIAN
METHOD:PUBLISH
X-ORIGINAL-URL:https://psalmfm.org
X-WR-CALDESC:Events for PsalmFM
REFRESH-INTERVAL;VALUE=DURATION:PT1H
X-Robots-Tag:noindex
X-PUBLISHED-TTL:PT1H
BEGIN:VTIMEZONE
TZID:UTC
BEGIN:STANDARD
TZOFFSETFROM:+0000
TZOFFSETTO:+0000
TZNAME:UTC
DTSTART:20240101T000000
END:STANDARD
END:VTIMEZONE
BEGIN:VEVENT
DTSTART;TZID=UTC:20250604T120000
DTEND;TZID=UTC:20250604T130000
DTSTAMP:20260424T183120
CREATED:20250522T171826Z
LAST-MODIFIED:20250522T171826Z
UID:11109-1749038400-1749042000@psalmfm.org
SUMMARY:Bemidji Area Church Musicians Recital Series
DESCRIPTION:The 38th season of the Summer Recital Series presented by the Bemidji Area Church Musicians\,\n(BACM) begins on Wednesday\, June 4\, 2025\, 12:00 noon\, at St. Bartholomew’s Episcopal Church. The\nrecital will feature The First City Handbell Choir under the direction of Carol L. Johnson and Vicki L.\nStenerson. A variety of selections will be presented by many bell ringers.\nA luncheon will follow the 30-minute concert with a price to be announced. St. Bartholomew’s\nEpiscopal Church is located at 1800 Irvine Ave. NW\nThe public is invited to attend this recital. A free-will offering will be received at the door for the\nScholarship programs of the Bemidji Area Church Musicians.\nThe public is cordially invited to all of the recitals in the season. For further information call Barbara\nFisher (218-556-0098)\, or Carol L. Johnson\, (218-751-0415).
URL:https://psalmfm.org/event/bemidji-area-church-musicians-recital-series/
END:VEVENT
END:VCALENDAR