BEGIN:VCALENDAR
VERSION:2.0
PRODID:-//PsalmFM - ECPv6.15.20//NONSGML v1.0//EN
CALSCALE:GREGORIAN
METHOD:PUBLISH
X-ORIGINAL-URL:https://psalmfm.org
X-WR-CALDESC:Events for PsalmFM
REFRESH-INTERVAL;VALUE=DURATION:PT1H
X-Robots-Tag:noindex
X-PUBLISHED-TTL:PT1H
BEGIN:VTIMEZONE
TZID:UTC
BEGIN:STANDARD
TZOFFSETFROM:+0000
TZOFFSETTO:+0000
TZNAME:UTC
DTSTART:20250101T000000
END:STANDARD
END:VTIMEZONE
BEGIN:VEVENT
DTSTART;TZID=UTC:20260428T183000
DTEND;TZID=UTC:20260428T193000
DTSTAMP:20260424T042207
CREATED:20251112T165301Z
LAST-MODIFIED:20260422T174932Z
UID:12206-1777401000-1777404600@psalmfm.org
SUMMARY:Community Choir @ Backus Community Center
DESCRIPTION:Community Choir meets Tuesdays @ 6:30pm at the Backus Community Center in International Falls. Call 218-285-7225 or email backusoffice@backusab.org for more information.
URL:https://psalmfm.org/event/community-choir-backus-community-center/
END:VEVENT
BEGIN:VEVENT
DTSTART;TZID=UTC:20260428T190000
DTEND;TZID=UTC:20260428T210000
DTSTAMP:20260424T042207
CREATED:20260217T170219Z
LAST-MODIFIED:20260217T171821Z
UID:12487-1777402800-1777410000@psalmfm.org
SUMMARY:Ryan Stevenson in Concert (Grand Rapids)
DESCRIPTION:OneChild Presents Ryan Stevenson with Presence Music\nTuesday\, April 28th | 7:00pmEvangelical Free Church | Grand Rapids\, MN\nTickets:\nhttps://www.itickets.com/events/484781…
URL:https://psalmfm.org/event/ryan-stevenson-in-concert-grand-rapids/
END:VEVENT
BEGIN:VEVENT
DTSTART;TZID=UTC:20260428T193000
DTEND;TZID=UTC:20260429T210000
DTSTAMP:20260424T042207
CREATED:20241122T165201Z
LAST-MODIFIED:20260423T151036Z
UID:10309-1777404600-1777496400@psalmfm.org
SUMMARY:Pickleball at Backus
DESCRIPTION:There is Pickleball every Sunday at 5:30\, and Tuesday and Wednesday at 7:30 at the Backus Community Center Gym. \nFor more information call Backus at 218-285-7225.
URL:https://psalmfm.org/event/pickleball-at-backus/
END:VEVENT
BEGIN:VEVENT
DTSTART;TZID=UTC:20260429T100000
DTEND;TZID=UTC:20260429T120000
DTSTAMP:20260424T042207
CREATED:20250911T154453Z
LAST-MODIFIED:20260422T175115Z
UID:11560-1777456800-1777464000@psalmfm.org
SUMMARY:Women's Coffee Break- Emo
DESCRIPTION:COFFEE BREAK will meet at 10:00 a.m. (coffee will be on at 9:30) on Wednesdays at the Emo Christian Reformed Church\, 18 Meadow Street in Emo. All ladies are invited to come out for a morning of fellowship with other women from the community. \nCoffee Break is a nondenominational small group Bible study that is open to all women of the community. Study material is provided\, and no previous Bible knowledge is necessary. While moms are participating in Bible study\, children\, ages 2 and up are invited to participate in “Little Lambs”. There is also a nursery for infants and toddlers. All ladies are welcome and encouraged to bring a friend! Regular attendance is not required. \nFor more information\, call Gertie at 276-7457 or Jeannette at 276-2928.
URL:https://psalmfm.org/event/coffee-break-emo/
END:VEVENT
BEGIN:VEVENT
DTSTART;TZID=UTC:20260429T120000
DTEND;TZID=UTC:20260429T130000
DTSTAMP:20260424T042207
CREATED:20250605T171216Z
LAST-MODIFIED:20260422T175241Z
UID:11147-1777464000-1777467600@psalmfm.org
SUMMARY:Tots and Topics @ Northern Options Pregnancy Center
DESCRIPTION:When: Wednesdays 12-1 \nWhere: 923 5th Street in International Falls \nWho: Parents and children 8 and under \nWhat: each week a new topic \nCall 218-285-7673 for more information
URL:https://psalmfm.org/event/summer-play-group-northern-options-pregnancy-center/
END:VEVENT
BEGIN:VEVENT
DTSTART;TZID=UTC:20260429T120000
DTEND;TZID=UTC:20260429T150000
DTSTAMP:20260424T042207
CREATED:20250203T161651Z
LAST-MODIFIED:20260423T151549Z
UID:10691-1777464000-1777474800@psalmfm.org
SUMMARY:Community Closet- Virginia
DESCRIPTION:Every Wednesday from 12-3 and every second Saturday from 9-12 there will be a Community Closet at Our Savior’s Lutheran Church\, located at 1111 8th Street South in Virginia. Clothing for all ages\, food pantry items and limited household goods.
URL:https://psalmfm.org/event/community-closet-virginia/
END:VEVENT
BEGIN:VEVENT
DTSTART;TZID=UTC:20260429T153000
DTEND;TZID=UTC:20260429T163000
DTSTAMP:20260424T042207
CREATED:20260323T182443Z
LAST-MODIFIED:20260421T164411Z
UID:12631-1777476600-1777480200@psalmfm.org
SUMMARY:We Are All Storytellers @ Arrowhead Libraries
DESCRIPTION:The Arrowhead Library System is pleased to present We Are All Storytellers with Author Margi Preus. These events are free and open to the public and will travel to participating ALS libraries and host locations April 20 – May 9\, 2026. \nJoin Minnesota Author Margi Preus for a dynamic and interactive presentation sure to inspire young writers. Kids Pre-K through 8th grade\, and even grown-ups\, will learn about writing and expand their writing skills through these free events. Attendees will learn the stories behind the stories\, participate in a group storytelling activity\, and gain plenty of writing tips. Margi’s visit will teach that we are all storytellers and we have a story to tell. \nMargi Preus is an award-winning author from Duluth whose books include Heart of a Samurai\, and West of the Moon. New titles include the picture book Snowshoe Kate and The Hospital Built for Pennies\, and The Shrew Detective\, the first in a nature mystery series. \nThese programs are fifty minutes long and are designed for children grades PreK-8 and writers of any age. \n  \nThese free programs are being offered at the following locations: \nWednesday\, April 29\, 3:30 p.m. – Grand Rapids Area Library \nThursday\, April 30\, 9:00 a.m. – Laurentian Elementary School\, hosted by the Gilbert Public Library \nFriday\, May 1\, 9:00 a.m. – Falls Elementary School\, hosted by the International Falls Public Library \nMonday\, May 4\, 9:00 a.m. – Vaughan-Steffensrud Elementary School\, hosted by the Chisholm Public Library \nTuesday\, May 5\, 2:00 p.m. – Coleraine Public Library \nWednesday\, May 6\, 10:30 a.m. – Babbitt Public Library \nWednesday\, May 6\, 2:00 p.m. – Aurora Public Library \nThursday\, May 7\, 1:30 p.m. – Ely Public Library \n  \nThis program\, sponsored by Arrowhead Library System\, was funded in part or in whole with money from Minnesota’s Arts and Cultural Heritage Fund (ACHF). \nTo learn more about Arrowhead Legacy Events\, please see their calendar at www.alslib.info or like them on Facebook at www.facebook.com/alslibinfo.
URL:https://psalmfm.org/event/we-are-all-storytellers-arrowhead-libraries/
END:VEVENT
BEGIN:VEVENT
DTSTART;TZID=UTC:20260429T180000
DTEND;TZID=UTC:20260429T203000
DTSTAMP:20260424T042207
CREATED:20241125T165107Z
LAST-MODIFIED:20260423T153002Z
UID:10320-1777485600-1777494600@psalmfm.org
SUMMARY:The Joy of Recovery @ The Vineyard Church in Eveleth
DESCRIPTION:The Joy of Recovery\nWednesdays at 6 PM\nLOCATION: The Vineyard Church- Iron Range\, located at 116 Adams Avenue in Eveleth. \nMeal is at 6 pm with the meeting starting at 6:30 pm. \nPlease contact the church at (218) 744-9617 if you would like more information.
URL:https://psalmfm.org/event/the-joy-of-recovery-the-vineyard-church-in-eveleth/
END:VEVENT
BEGIN:VEVENT
DTSTART;TZID=UTC:20260430T090000
DTEND;TZID=UTC:20260430T153000
DTSTAMP:20260424T042207
CREATED:20260330T170323Z
LAST-MODIFIED:20260423T164331Z
UID:12677-1777539600-1777563000@psalmfm.org
SUMMARY:Bloodmobile- Virginia
DESCRIPTION:Thursday\, April 30\, 2026 \n9:00 am – 3:30 pm \nVirginia GSC \nGovernment Services Center (GSC) Virginia\n201 3rd Ave. West\nVirginia\, MN 55792 \nPrimary Blood Drive Coordinator: \nJayde Kaeter\nEmail: kaeterj@stlouiscountymn.gov\nPhone: 218-471-7127 \nContact the Blood Drive Coordinator or visit www.mbcherohub.club for more information and to register.
URL:https://psalmfm.org/event/bloodmobile-virginia-12/
END:VEVENT
BEGIN:VEVENT
DTSTART;TZID=UTC:20260430T103000
DTEND;TZID=UTC:20260430T113000
DTSTAMP:20260424T042207
CREATED:20240918T160315Z
LAST-MODIFIED:20260423T153034Z
UID:9918-1777545000-1777548600@psalmfm.org
SUMMARY:Storytime-Ifalls Public Library
DESCRIPTION:Thursdays\, 10:30am – 11:30am at the Ifalls Public Library\nStories\, rhymes and more followed by playtime. For anyone under age 6 with a caregiver.\n(Until April 30th)
URL:https://psalmfm.org/event/storytime-ifalls-public-library/
END:VEVENT
BEGIN:VEVENT
DTSTART;TZID=UTC:20260430T180000
DTEND;TZID=UTC:20260430T200000
DTSTAMP:20260424T042207
CREATED:20260416T172443Z
LAST-MODIFIED:20260416T172443Z
UID:12728-1777572000-1777579200@psalmfm.org
SUMMARY:Big Falls Playground Pot-luck Fundraiser
DESCRIPTION:There will be a Playground Pot-luck Fundraiser on Thursday\, April 30th at 6pm at the Big Falls Community Building Gym. Free will donation. Sponsored by Big Falls CERC
URL:https://psalmfm.org/event/big-falls-playground-pot-luck-fundraiser/
END:VEVENT
END:VCALENDAR